BEGIN:VCALENDAR
VERSION:2.0
PRODID:-//DupMECP2 - ECPv6.15.11//NONSGML v1.0//EN
CALSCALE:GREGORIAN
METHOD:PUBLISH
X-WR-CALNAME:DupMECP2
X-ORIGINAL-URL:https://dupmecp2.eu/en
X-WR-CALDESC:Events for DupMECP2
REFRESH-INTERVAL;VALUE=DURATION:PT1H
X-Robots-Tag:noindex
X-PUBLISHED-TTL:PT1H
BEGIN:VTIMEZONE
TZID:Europe/Vienna
BEGIN:DAYLIGHT
TZOFFSETFROM:+0100
TZOFFSETTO:+0200
TZNAME:CEST
DTSTART:20250330T010000
END:DAYLIGHT
BEGIN:STANDARD
TZOFFSETFROM:+0200
TZOFFSETTO:+0100
TZNAME:CET
DTSTART:20251026T010000
END:STANDARD
BEGIN:DAYLIGHT
TZOFFSETFROM:+0100
TZOFFSETTO:+0200
TZNAME:CEST
DTSTART:20260329T010000
END:DAYLIGHT
BEGIN:STANDARD
TZOFFSETFROM:+0200
TZOFFSETTO:+0100
TZNAME:CET
DTSTART:20261025T010000
END:STANDARD
BEGIN:DAYLIGHT
TZOFFSETFROM:+0100
TZOFFSETTO:+0200
TZNAME:CEST
DTSTART:20270328T010000
END:DAYLIGHT
BEGIN:STANDARD
TZOFFSETFROM:+0200
TZOFFSETTO:+0100
TZNAME:CET
DTSTART:20271031T010000
END:STANDARD
END:VTIMEZONE
BEGIN:VEVENT
DTSTART;TZID=Europe/Vienna:20260224T080000
DTEND;TZID=Europe/Vienna:20260301T170000
DTSTAMP:20260423T173930
CREATED:20250917T190131Z
LAST-MODIFIED:20260112T091229Z
UID:33534-1771920000-1772384400@dupmecp2.eu
SUMMARY:Course pour les maladies rares 2026
DESCRIPTION:Nous sommes fiers de faire partie des 44 associations et groupes de défense des patients dans le domaine des maladies rares en Allemagne et en Autriche\, qui unissent à nouveau leurs forces pour la RARE DISEASES RUN 2026 ! \nLa RARE DISEASES RUN est la plus grande course à pied virtuelle d’Europe pour les maladies rares\, avec plus de 4 000 participants en 2024. \nDu 25 février au 1 mars 2026\, participez à la 5ème édition de la course pour les maladies rares\, un événement virtuel\, pour célébrer la Journée des maladies rares. Tout le monde peut particper. Il n’est pas nécessaire d’être un athlète professionnel pour s’inscrire ; tout le monde peut courir pour une bonne cause. Vous pouvez choisir votre distance et montrer votre soutien. \nDécouvrez la course pour les maladies rares dans notre vidéo \nChaque kilomètre permet de collecter des fonds et de soutenir 44 organisations de soutien des maladies rares\, unies derrière la Course des maladies rares. Les frais de participation seront répartis équitablement entre ces organisations. \nEn option\, vous pouvez même choisir une association spécifique que vous souhaitez soutenir par un don. \nVoici comment vous pouvez participer : \nL’inscription coûte 10€ et est ouverte jusqu’au 25 février 2026. Vous pouvez choisir entre une simple inscription en ligne (avec un certificat imprimable) ou opter pour des avantages supplémentaires tels qu’une médaille et un T-shirt. Vous pouvez choisir la distance (de 500 m à un marathon) et la manière dont vous souhaitez participer (en courant ou en marchant). \nLors de votre inscription\, n’oubliez pas : \n\nd’inscrire “ DupMECP2 ”dans la rubrique “ Organisation/Verein ”.\nVous pouvez choisir de faire un don à une association spécifique\, y compris la nôtre !\n\nLes inscriptions se font sur le lien suivant : https://my.raceresult.com/319532/registration \nRejoignez-nous pour sensibiliser à la lutte contre les maladies rares\, qui touchent plus de 300 millions de personnes dans le monde. Seuls\, nous sommes rares\, ensemble\, nous sommes forts ! Inscrivez-vous dès aujourd’hui et courez pour une bonne cause ! \nLes particuliers\, entreprises et écoles sont chaleureusement invités à sensibiliser le public et à montrer leur solidarité. Si vous ou votre organisation souhaitez vous impliquer\, merci de nous contacter. \nEnsemble\, nous pouvons rendre la Journée des Maladies Rares visible dans le monde entier. \n 
URL:https://dupmecp2.eu/en/event/course-pour-les-maladies-rares-2026/
ATTACH;FMTTYPE=image/jpeg:https://dupmecp2.eu/wp-content/uploads/2025/09/RDR2026.jpg
END:VEVENT
END:VCALENDAR